BEGIN:VCALENDAR
VERSION:2.0
PRODID:-//Live - HGV Careers - ECPv6.15.12.2//NONSGML v1.0//EN
CALSCALE:GREGORIAN
METHOD:PUBLISH
X-ORIGINAL-URL:https://hiltongrandvacations.site.findly.com
X-WR-CALDESC:Events for Live - HGV Careers
REFRESH-INTERVAL;VALUE=DURATION:PT1H
X-Robots-Tag:noindex
X-PUBLISHED-TTL:PT1H
BEGIN:VTIMEZONE
TZID:America/New_York
BEGIN:DAYLIGHT
TZOFFSETFROM:-0500
TZOFFSETTO:-0400
TZNAME:EDT
DTSTART:20180311T070000
END:DAYLIGHT
BEGIN:STANDARD
TZOFFSETFROM:-0400
TZOFFSETTO:-0500
TZNAME:EST
DTSTART:20181104T060000
END:STANDARD
BEGIN:DAYLIGHT
TZOFFSETFROM:-0500
TZOFFSETTO:-0400
TZNAME:EDT
DTSTART:20190310T070000
END:DAYLIGHT
BEGIN:STANDARD
TZOFFSETFROM:-0400
TZOFFSETTO:-0500
TZNAME:EST
DTSTART:20191103T060000
END:STANDARD
BEGIN:DAYLIGHT
TZOFFSETFROM:-0500
TZOFFSETTO:-0400
TZNAME:EDT
DTSTART:20200308T070000
END:DAYLIGHT
BEGIN:STANDARD
TZOFFSETFROM:-0400
TZOFFSETTO:-0500
TZNAME:EST
DTSTART:20201101T060000
END:STANDARD
END:VTIMEZONE
BEGIN:VEVENT
DTSTART;TZID=America/New_York:20190611T120000
DTEND;TZID=America/New_York:20190611T170000
DTSTAMP:20260425T085444
CREATED:20190516T195524Z
LAST-MODIFIED:20190516T195524Z
UID:15749-1560254400-1560272400@hiltongrandvacations.site.findly.com
SUMMARY:Myrtle Beach Resort Operations Hiring Event - June 11\,2019
DESCRIPTION:Hilton Grand Vacations’ Resort Operations Team is hiring in Myrtle Beach\, South Carolina! \nJoin us at our In-House Hiring Event to meet with the recruitment team and receive more information about our opportunities at our beautiful properties on Myrtle Beach. \n  \nDate: Tuesday\, June 11\, 2019 \nTime: Stop by any time between 12:00 p.m. and 5:00 p.m. \nLocation: Operations Center across from the new Ocean Enclave Resort \nAddress:  300 16th Ave N.  Myrtle Beach\, SC 29577 \n(Complimentary parking available in garage) \n  \nCandidates will have the opportunity to interview with our Leadership Team for any available position. We will also be making on-the-spot job offers. No prior experience required.  Candidates will need to dress for success and bring printed copies of their resume. \n  \nImmediate openings available for the following positions: \nHousekeeping \nFront Desk \nBell Person \nSecurity \nMaintenance \nCommon Area Attendant \nBartender \nAnd many more… \n  \n 
URL:https://hiltongrandvacations.site.findly.com/event/mb-hiring-event-june-11/
LOCATION:Operations Center – Ocean Enclave\, 300 16th Ave N\, Myrtle Beach\, SC\, 29577\, United States
END:VEVENT
BEGIN:VEVENT
DTSTART;TZID=America/New_York:20190611T120000
DTEND;TZID=America/New_York:20190611T170000
DTSTAMP:20260425T085444
CREATED:20190516T195524Z
LAST-MODIFIED:20190516T195524Z
UID:27988-1560254400-1560272400@hiltongrandvacations.site.findly.com
SUMMARY:Myrtle Beach Resort Operations Hiring Event - June 11\,2019
DESCRIPTION:Hilton Grand Vacations’ Resort Operations Team is hiring in Myrtle Beach\, South Carolina! \nJoin us at our In-House Hiring Event to meet with the recruitment team and receive more information about our opportunities at our beautiful properties on Myrtle Beach. \n  \nDate: Tuesday\, June 11\, 2019 \nTime: Stop by any time between 12:00 p.m. and 5:00 p.m. \nLocation: Operations Center across from the new Ocean Enclave Resort \nAddress:  300 16th Ave N.  Myrtle Beach\, SC 29577 \n(Complimentary parking available in garage) \n  \nCandidates will have the opportunity to interview with our Leadership Team for any available position. We will also be making on-the-spot job offers. No prior experience required.  Candidates will need to dress for success and bring printed copies of their resume. \n  \nImmediate openings available for the following positions: \nHousekeeping \nFront Desk \nBell Person \nSecurity \nMaintenance \nCommon Area Attendant \nBartender \nAnd many more… \n  \n 
URL:https://hiltongrandvacations.site.findly.com/event/mb-hiring-event-june-11-2/
LOCATION:Operations Center – Ocean Enclave\, 300 16th Ave N\, Myrtle Beach\, SC\, 29577\, United States
END:VEVENT
BEGIN:VEVENT
DTSTART;TZID=America/New_York:20190611T120000
DTEND;TZID=America/New_York:20190611T170000
DTSTAMP:20260425T085444
CREATED:20190516T195524Z
LAST-MODIFIED:20190516T195524Z
UID:31033-1560254400-1560272400@hiltongrandvacations.site.findly.com
SUMMARY:Myrtle Beach Resort Operations Hiring Event - June 11\,2019
DESCRIPTION:Hilton Grand Vacations’ Resort Operations Team is hiring in Myrtle Beach\, South Carolina! \nJoin us at our In-House Hiring Event to meet with the recruitment team and receive more information about our opportunities at our beautiful properties on Myrtle Beach. \n  \nDate: Tuesday\, June 11\, 2019 \nTime: Stop by any time between 12:00 p.m. and 5:00 p.m. \nLocation: Operations Center across from the new Ocean Enclave Resort \nAddress:  300 16th Ave N.  Myrtle Beach\, SC 29577 \n(Complimentary parking available in garage) \n  \nCandidates will have the opportunity to interview with our Leadership Team for any available position. We will also be making on-the-spot job offers. No prior experience required.  Candidates will need to dress for success and bring printed copies of their resume. \n  \nImmediate openings available for the following positions: \nHousekeeping \nFront Desk \nBell Person \nSecurity \nMaintenance \nCommon Area Attendant \nBartender \nAnd many more… \n  \n 
URL:https://hiltongrandvacations.site.findly.com/event/mb-hiring-event-june-11-3/
LOCATION:Operations Center – Ocean Enclave\, 300 16th Ave N\, Myrtle Beach\, SC\, 29577\, United States
END:VEVENT
END:VCALENDAR