BEGIN:VCALENDAR
VERSION:2.0
PRODID:-//Live - HGV Careers - ECPv6.15.12.2//NONSGML v1.0//EN
CALSCALE:GREGORIAN
METHOD:PUBLISH
X-ORIGINAL-URL:https://hiltongrandvacations.site.findly.com
X-WR-CALDESC:Events for Live - HGV Careers
REFRESH-INTERVAL;VALUE=DURATION:PT1H
X-Robots-Tag:noindex
X-PUBLISHED-TTL:PT1H
BEGIN:VTIMEZONE
TZID:America/New_York
BEGIN:DAYLIGHT
TZOFFSETFROM:-0500
TZOFFSETTO:-0400
TZNAME:EDT
DTSTART:20250309T070000
END:DAYLIGHT
BEGIN:STANDARD
TZOFFSETFROM:-0400
TZOFFSETTO:-0500
TZNAME:EST
DTSTART:20251102T060000
END:STANDARD
BEGIN:DAYLIGHT
TZOFFSETFROM:-0500
TZOFFSETTO:-0400
TZNAME:EDT
DTSTART:20260308T070000
END:DAYLIGHT
BEGIN:STANDARD
TZOFFSETFROM:-0400
TZOFFSETTO:-0500
TZNAME:EST
DTSTART:20261101T060000
END:STANDARD
BEGIN:DAYLIGHT
TZOFFSETFROM:-0500
TZOFFSETTO:-0400
TZNAME:EDT
DTSTART:20270314T070000
END:DAYLIGHT
BEGIN:STANDARD
TZOFFSETFROM:-0400
TZOFFSETTO:-0500
TZNAME:EST
DTSTART:20271107T060000
END:STANDARD
END:VTIMEZONE
BEGIN:VEVENT
DTSTART;TZID=America/New_York:20260428T100000
DTEND;TZID=America/New_York:20260428T163000
DTSTAMP:20260421T201517
CREATED:20260421T161503Z
LAST-MODIFIED:20260421T161503Z
UID:36551-1777370400-1777393800@hiltongrandvacations.site.findly.com
SUMMARY:Customer Care Hiring Event 04/28/26
DESCRIPTION:Customer Care Hiring Event -04/28/26\n Ready to launch or grow your career with Hilton Grand Vacations? Join us for an in‑person hiring event and discover an opportunity where your passion for service truly shines. \n When: Tuesday\, April 28Time: 10:00–11:30 AM | 1:30–4:30 PMWhere: 6355 Metrowest Blvd\, Suite 180\, Orlando\, FL 32835 \n Meet directly with our hiring team\, interview the same day\, and learn how you can become part of a world‑class organization known for creating unforgettable vacation experiences. As a Customer Care Agent\, you’ll connect with guests\, help plan amazing getaways\, and enjoy a supportive\, inclusive workplace that celebrates growth. Please make sure to bring a copy of your resume and dress professionally for the event! \nWhy Attend? \n\nOn-the-spot interviews\nPaid training\nCompetitive pay + incentives\nMedical\, Dental\, and Vision benefits starting on Day One\nGlobal travel discounts with GO Hilton\nAnd Much More…!\n\nIf you love helping others and thrive in a fast‑paced\, customer‑focused environment\, we want to meet you.  \nRegister today and take the next step in your career!
URL:https://hiltongrandvacations.site.findly.com/event/customer-care-hiring-event-04-28-26/
LOCATION:Hilton Grand Vacations – Metrowest\, 6355 Metrowest Blvd\, Orlando\, Florida\, 32835\, United States
CATEGORIES:Call Center
END:VEVENT
END:VCALENDAR