BEGIN:VCALENDAR
VERSION:2.0
PRODID:-//Live - HGV Careers - ECPv6.15.12.2//NONSGML v1.0//EN
CALSCALE:GREGORIAN
METHOD:PUBLISH
X-WR-CALNAME:Live - HGV Careers
X-ORIGINAL-URL:https://hiltongrandvacations.site.findly.com
X-WR-CALDESC:Events for Live - HGV Careers
REFRESH-INTERVAL;VALUE=DURATION:PT1H
X-Robots-Tag:noindex
X-PUBLISHED-TTL:PT1H
BEGIN:VTIMEZONE
TZID:America/New_York
BEGIN:DAYLIGHT
TZOFFSETFROM:-0500
TZOFFSETTO:-0400
TZNAME:EDT
DTSTART:20170312T070000
END:DAYLIGHT
BEGIN:STANDARD
TZOFFSETFROM:-0400
TZOFFSETTO:-0500
TZNAME:EST
DTSTART:20171105T060000
END:STANDARD
BEGIN:DAYLIGHT
TZOFFSETFROM:-0500
TZOFFSETTO:-0400
TZNAME:EDT
DTSTART:20180311T070000
END:DAYLIGHT
BEGIN:STANDARD
TZOFFSETFROM:-0400
TZOFFSETTO:-0500
TZNAME:EST
DTSTART:20181104T060000
END:STANDARD
BEGIN:DAYLIGHT
TZOFFSETFROM:-0500
TZOFFSETTO:-0400
TZNAME:EDT
DTSTART:20190310T070000
END:DAYLIGHT
BEGIN:STANDARD
TZOFFSETFROM:-0400
TZOFFSETTO:-0500
TZNAME:EST
DTSTART:20191103T060000
END:STANDARD
END:VTIMEZONE
BEGIN:VEVENT
DTSTART;TZID=America/New_York:20181002T103000
DTEND;TZID=America/New_York:20181002T153000
DTSTAMP:20260421T120220
CREATED:20180924T184534Z
LAST-MODIFIED:20180924T184534Z
UID:11870-1538476200-1538494200@hiltongrandvacations.site.findly.com
SUMMARY:Las Vegas Call Center Hiring Event
DESCRIPTION:  \nOur Las Vegas Call Center is hiring! \nJoin us at our upcoming Call Transfer Agent Hiring Event on Tuesday\, October 2nd \, 2018\, for the opportunity to interview with our recruitment team and learn more about the perks of working for an industry leader. Be part of the engine that builds vacation dreams for our guests while building an empowering career with the leader in the vacation ownership. \nDate of Event: 10/02/2018 \nTime of Event: 10:30 am – 3:30 pm \nLocation & Address of Event: Las Vegas Call Center \n5555 W Badura Ave Suite 160 \nLas Vegas\, NV 98118 \nNow Hiring for:  \n\nAgent Call Transfer – Job ID: CAL000058\n\nPlease come to the event prepared with printed copies of your resume and any questions you may have for our recruitment team. Walk-ins are welcomed and feel free to bring a friend! Remember to dress for success. \nWe look forward to meeting you!
URL:https://hiltongrandvacations.site.findly.com/event/las-vegas-call-center-hiring-event-2/
LOCATION:HI
END:VEVENT
BEGIN:VEVENT
DTSTART;TZID=America/New_York:20181002T103000
DTEND;TZID=America/New_York:20181002T153000
DTSTAMP:20260421T120220
CREATED:20180924T184534Z
LAST-MODIFIED:20180924T184534Z
UID:27956-1538476200-1538494200@hiltongrandvacations.site.findly.com
SUMMARY:Las Vegas Call Center Hiring Event
DESCRIPTION:  \nOur Las Vegas Call Center is hiring! \nJoin us at our upcoming Call Transfer Agent Hiring Event on Tuesday\, October 2nd \, 2018\, for the opportunity to interview with our recruitment team and learn more about the perks of working for an industry leader. Be part of the engine that builds vacation dreams for our guests while building an empowering career with the leader in the vacation ownership. \nDate of Event: 10/02/2018 \nTime of Event: 10:30 am – 3:30 pm \nLocation & Address of Event: Las Vegas Call Center \n5555 W Badura Ave Suite 160 \nLas Vegas\, NV 98118 \nNow Hiring for:  \n\nAgent Call Transfer – Job ID: CAL000058\n\nPlease come to the event prepared with printed copies of your resume and any questions you may have for our recruitment team. Walk-ins are welcomed and feel free to bring a friend! Remember to dress for success. \nWe look forward to meeting you!
URL:https://hiltongrandvacations.site.findly.com/event/las-vegas-call-center-hiring-event-2-2/
LOCATION:HI
END:VEVENT
BEGIN:VEVENT
DTSTART;TZID=America/New_York:20181002T103000
DTEND;TZID=America/New_York:20181002T153000
DTSTAMP:20260421T120220
CREATED:20180924T184534Z
LAST-MODIFIED:20180924T184534Z
UID:31002-1538476200-1538494200@hiltongrandvacations.site.findly.com
SUMMARY:Las Vegas Call Center Hiring Event
DESCRIPTION:  \nOur Las Vegas Call Center is hiring! \nJoin us at our upcoming Call Transfer Agent Hiring Event on Tuesday\, October 2nd \, 2018\, for the opportunity to interview with our recruitment team and learn more about the perks of working for an industry leader. Be part of the engine that builds vacation dreams for our guests while building an empowering career with the leader in the vacation ownership. \nDate of Event: 10/02/2018 \nTime of Event: 10:30 am – 3:30 pm \nLocation & Address of Event: Las Vegas Call Center \n5555 W Badura Ave Suite 160 \nLas Vegas\, NV 98118 \nNow Hiring for:  \n\nAgent Call Transfer – Job ID: CAL000058\n\nPlease come to the event prepared with printed copies of your resume and any questions you may have for our recruitment team. Walk-ins are welcomed and feel free to bring a friend! Remember to dress for success. \nWe look forward to meeting you!
URL:https://hiltongrandvacations.site.findly.com/event/las-vegas-call-center-hiring-event-2-3/
LOCATION:HI
END:VEVENT
END:VCALENDAR